BEGIN:VCALENDAR
VERSION:2.0
PRODID:-//Friends of Box Hill - ECPv6.15.11//NONSGML v1.0//EN
CALSCALE:GREGORIAN
METHOD:PUBLISH
X-ORIGINAL-URL:https://www.friendsofboxhill.org.uk
X-WR-CALDESC:Events for Friends of Box Hill
REFRESH-INTERVAL;VALUE=DURATION:PT1H
X-Robots-Tag:noindex
X-PUBLISHED-TTL:PT1H
BEGIN:VTIMEZONE
TZID:UTC
BEGIN:STANDARD
TZOFFSETFROM:+0000
TZOFFSETTO:+0000
TZNAME:UTC
DTSTART:20150101T000000
END:STANDARD
END:VTIMEZONE
BEGIN:VTIMEZONE
TZID:UTC
BEGIN:STANDARD
TZOFFSETFROM:+0000
TZOFFSETTO:+0000
TZNAME:UTC
DTSTART:20140101T000000
END:STANDARD
END:VTIMEZONE
BEGIN:VEVENT
DTSTART;TZID=UTC:20240516T103000
DTEND;TZID=UTC:20240516T123000
DTSTAMP:20260420T083718
CREATED:20240416T141235Z
LAST-MODIFIED:20240416T141235Z
UID:1510-1715855400-1715862600@www.friendsofboxhill.org.uk
SUMMARY:Literary Walk and Talk
DESCRIPTION:Box Hill has inspired many creative people in the past.  National Trust volunteer Alison Burns has carried out a lot of research into the lives of the many creatives associated with the Hill and she will lead us on a walk and talk about some of these. \nWe will meet in front of the Café at 10.30 am.
URL:https://www.friendsofboxhill.org.uk/whats-on/literary-walk-and-talk/
LOCATION:Box Hill cafe/Pentagon feature\, Box Hill\, Surrey\, KT20 7LB\, United Kingdom
CATEGORIES:FoBH
ORGANIZER;CN="Lyn Richards":MAILTO:lyn@mra.uk.net
END:VEVENT
BEGIN:VEVENT
DTSTART;TZID=UTC:20160813T110000
DTEND;TZID=UTC:20160813T140000
DTSTAMP:20260420T083718
CREATED:20160905T172617Z
LAST-MODIFIED:20160905T174641Z
UID:644-1471086000-1471096800@www.friendsofboxhill.org.uk
SUMMARY:Box Hill Farm and Riverside Walk and Picnic
DESCRIPTION:Mark Dawson\, Lead Ranger\, Box Hill and Headley Heath\, will lead us on a walk\nthrough Box Hill Farm and along part of the riverside walk before it is reopened to\nthe public. We will provide a lovely picnic\, part way along for £8 per head. There\nwill be a few places places for less mobile people to be taken to the picnic. Meet on\nthe hard standing on Box Hill Farm\, through the red farm gate off the road to\nBoxhurst. Coming from Dorking on the A25 take the left-hand turn signposted to\nLower Box Hill Farm. This road goes back on itself and you follow it all the way\nround until you see a red gate on the left just before you get to Boxhurst house.\nPlease ring on 01737 842889 or email – lyn@mra.uk.net to book a place on this.
URL:https://www.friendsofboxhill.org.uk/whats-on/box-hill-farm-and-riverside-walk-and-picnic/
LOCATION:Box Hill Village Hall\, United Kingdom
CATEGORIES:FoBH
ORGANIZER;CN="Lyn Richards":MAILTO:lyn@mra.uk.net
END:VEVENT
BEGIN:VEVENT
DTSTART;TZID=UTC:20151112T190000
DTEND;TZID=UTC:20151112T220000
DTSTAMP:20260420T083718
CREATED:20150612T185542Z
LAST-MODIFIED:20150625T174511Z
UID:497-1447354800-1447365600@www.friendsofboxhill.org.uk
SUMMARY:British deer talk
DESCRIPTION:Mark Dawson\, NT Head Ranger\, will talk to us about the different UK deer\, their lifecycles and habitats.  He will discuss the management of deer – and a venison stew and glass of wine will be provided after the talk.  A vegetarian option will also be available.  Please contact Lyn Richards to book a place.
URL:https://www.friendsofboxhill.org.uk/whats-on/british-deer-talk/
LOCATION:Warren Farm\, Headley Lane\, Mickleham\, RH5 6DG\, United Kingdom
CATEGORIES:FoBH
ATTACH;FMTTYPE=image/jpeg:https://www.friendsofboxhill.org.uk/wp-content/uploads/2015/06/Deer.jpg
ORGANIZER;CN="Lyn Richards":MAILTO:lyn@mra.uk.net
END:VEVENT
BEGIN:VEVENT
DTSTART;TZID=UTC:20150908T070000
DTEND;TZID=UTC:20150908T090000
DTSTAMP:20260420T083718
CREATED:20150731T215445Z
LAST-MODIFIED:20150811T161355Z
UID:544-1441695600-1441702800@www.friendsofboxhill.org.uk
SUMMARY:Bird ringing on Leith Hill
DESCRIPTION:Sam Bayley\, NT Lead Ranger for Leith Hill will talk to us about bird ringing and we will watch while he catches and rings some birds on Leith Hill. Sam has been bird ringing for many years as a volunteer for the British Trust for Ornithology (BTO) and has been building extensive knowledge on the birds at Leith Hill and their conservation and habitat needs. Sam has undertaken ringing expeditions to The Gambia\, Singapore and Spain as well as other parts of the UK and funds the ringing himself as well as training new people for the future. There will be a lot of standing around so you might like to bring something to sit on.  Please contact Lyn Richards to book.
URL:https://www.friendsofboxhill.org.uk/whats-on/bird-ringing-on-leith-hill/
LOCATION:Rhododendron Car Park\, Leith Hill\, RH5 6LU\, United Kingdom
CATEGORIES:FoBH
ORGANIZER;CN="Lyn Richards":MAILTO:lyn@mra.uk.net
END:VEVENT
BEGIN:VEVENT
DTSTART;TZID=UTC:20150815T140000
DTEND;TZID=UTC:20150815T170000
DTSTAMP:20260420T083718
CREATED:20150731T214827Z
LAST-MODIFIED:20150731T215858Z
UID:542-1439647200-1439658000@www.friendsofboxhill.org.uk
SUMMARY:Box Hill's beautiful butterflies
DESCRIPTION:A walk down to Lower Viewpoint\, climbing back round and up to the Centre\, led by Gail Jeffcoate\, author of The Box Hill Book of Butterflies\, co-author of The Millenium Atlas of Butterflies in Britain and Ireland and previously Butterfly Recorder for Surrey.  Please contact Lyn Richards to book.
URL:https://www.friendsofboxhill.org.uk/whats-on/box-hills-beautiful-butterflies/
LOCATION:Box Hill cafe/Pentagon feature\, Box Hill\, Surrey\, KT20 7LB\, United Kingdom
CATEGORIES:FoBH
ATTACH;FMTTYPE=image/jpeg:https://www.friendsofboxhill.org.uk/wp-content/uploads/2015/05/Blue-butterfly-1.jpg
ORGANIZER;CN="Lyn Richards":MAILTO:lyn@mra.uk.net
END:VEVENT
BEGIN:VEVENT
DTSTART;TZID=UTC:20150812T210000
DTEND;TZID=UTC:20150812T230000
DTSTAMP:20260420T083718
CREATED:20150612T184738Z
LAST-MODIFIED:20150625T174605Z
UID:495-1439413200-1439420400@www.friendsofboxhill.org.uk
SUMMARY:Summer evening walk
DESCRIPTION:A walk led by Mark Dawson\, NT Head Ranger\, to see glow-worms and moths.  A moth expert with a moth trap will show us the variety of moths around.  We will start with a glass of Pimms and nibbles while we look at the moths collected.  We will then take a short walk along the path at the bottom of Dukes and also up a small slope to the top of the farm field.  Please contact Lyn Richards to book a place.
URL:https://www.friendsofboxhill.org.uk/whats-on/summer-evening-walk/
LOCATION:Boxhurst car parking area\, Boxhurst\, Dorking\, United Kingdom
CATEGORIES:FoBH
ATTACH;FMTTYPE=image/jpeg:https://www.friendsofboxhill.org.uk/wp-content/uploads/2015/06/Moth-1.jpg
ORGANIZER;CN="Lyn Richards":MAILTO:lyn@mra.uk.net
END:VEVENT
BEGIN:VEVENT
DTSTART;TZID=UTC:20150704T100000
DTEND;TZID=UTC:20150704T120000
DTSTAMP:20260420T083718
CREATED:20150625T175555Z
LAST-MODIFIED:20150625T175806Z
UID:510-1436004000-1436011200@www.friendsofboxhill.org.uk
SUMMARY:Summer flowers
DESCRIPTION:We will be walking in a different place this year along the top of the Lower Box Hill Farm fields below Dukes to see the wild flowers there. Ann Sankey\, the Surrey Botanical Recorder and author of the Box Hill book of Orchids will lead the walk. You will need to wear sturdy shoes and walk up a small slope. \nWe will meet by the small car park below Boxhurst. You get to this by taking the Old Reigate road off the A25 signposted to Lower Box Hill Farm and Boxhurst and driving all the way to the end of this. There is only room for a few cars so if you can park at the Box Hill Centre and walk down the path below the Viewpoint it would be helpful.  Please contact Lyn Richards to book a place.
URL:https://www.friendsofboxhill.org.uk/whats-on/summer-flowers/
LOCATION:Boxhurst car parking area\, Boxhurst\, Dorking\, United Kingdom
CATEGORIES:FoBH
ATTACH;FMTTYPE=image/jpeg:https://www.friendsofboxhill.org.uk/wp-content/uploads/2015/06/Wild-flower.jpg
ORGANIZER;CN="Lyn Richards":MAILTO:lyn@mra.uk.net
END:VEVENT
END:VCALENDAR